BEGIN:VCALENDAR
VERSION:2.0
PRODID:-//Shenandoah Valley British Car Club - ECPv6.15.18//NONSGML v1.0//EN
CALSCALE:GREGORIAN
METHOD:PUBLISH
X-ORIGINAL-URL:https://svbcc.net
X-WR-CALDESC:Events for Shenandoah Valley British Car Club
REFRESH-INTERVAL;VALUE=DURATION:PT1H
X-Robots-Tag:noindex
X-PUBLISHED-TTL:PT1H
BEGIN:VTIMEZONE
TZID:America/New_York
BEGIN:DAYLIGHT
TZOFFSETFROM:-0500
TZOFFSETTO:-0400
TZNAME:EDT
DTSTART:20250309T070000
END:DAYLIGHT
BEGIN:STANDARD
TZOFFSETFROM:-0400
TZOFFSETTO:-0500
TZNAME:EST
DTSTART:20251102T060000
END:STANDARD
BEGIN:DAYLIGHT
TZOFFSETFROM:-0500
TZOFFSETTO:-0400
TZNAME:EDT
DTSTART:20260308T070000
END:DAYLIGHT
BEGIN:STANDARD
TZOFFSETFROM:-0400
TZOFFSETTO:-0500
TZNAME:EST
DTSTART:20261101T060000
END:STANDARD
BEGIN:DAYLIGHT
TZOFFSETFROM:-0500
TZOFFSETTO:-0400
TZNAME:EDT
DTSTART:20270314T070000
END:DAYLIGHT
BEGIN:STANDARD
TZOFFSETFROM:-0400
TZOFFSETTO:-0500
TZNAME:EST
DTSTART:20271107T060000
END:STANDARD
END:VTIMEZONE
BEGIN:VEVENT
DTSTART;VALUE=DATE:20260314
DTEND;VALUE=DATE:20260315
DTSTAMP:20260422T045403
CREATED:20260117T213319Z
LAST-MODIFIED:20260118T180744Z
UID:8547-1773446400-1773532799@svbcc.net
SUMMARY:SVBCC Snow Ball Rally
DESCRIPTION:After being cooped up in January and February\, cabin fever has begun to set in\, and you are just maybe in need of a little road time in your beloved LBC. Spring is coming and hopefully any residual Winter will have melted away as you join us on Saturday\, March 14 for the Snow Ball Rally in your British car or any car you choose for the occasion. \nWe will meet at 10:00AM in Charlottesville at Piedmont Virginia Community College (PVCC) off Route 20-South (exit 121 from I-64). From Route 20 South (Scottsville Road)\, take the first right onto College Drive\, and then an immediate right into the parking lot in front of the Stultz Center (see the map below). We will be looking for your smiling faces! On the drive\, we will be exploring some friendly backroads\, a few gentle hills and curves\, and some emerging Spring scenery\, hopefully snow free! We will end for a beverage and lunch at 12:00PM noon at the Exchange Cafe\, on the intersection of Route 20 and Route 33 for those heading across the mountains back to the Valley. All are Welcome to drive or meet us at the Café. \nPlease RSVP by Friday\, March 13 to evgorman@gmail.com or by calling 434-977-3594. \nA scenic\, early-spring drive scheduled for Saturday\, March 14; sponsored by Ev Gorman. More information to come soon! \n 
URL:https://svbcc.net/event/svbcc-ice-chipper-rally/
LOCATION:PVCC Stultz Center Parking Lot\, 600 College Dr\, Charlottesville\, VA\, 22902\, United States
CATEGORIES:SVBCC Club Events
ATTACH;FMTTYPE=image/jpeg:https://svbcc.net/wp-content/uploads/2026/01/event_winter_road_scene_pixabay.jpg
ORGANIZER;CN="SVBCC/Ev & Dennis Gorman":MAILTO:evgorman@gmail.com
END:VEVENT
END:VCALENDAR