BEGIN:VCALENDAR
VERSION:2.0
PRODID:-//Shenandoah Valley British Car Club - ECPv6.15.18//NONSGML v1.0//EN
CALSCALE:GREGORIAN
METHOD:PUBLISH
X-WR-CALNAME:Shenandoah Valley British Car Club
X-ORIGINAL-URL:https://svbcc.net
X-WR-CALDESC:Events for Shenandoah Valley British Car Club
REFRESH-INTERVAL;VALUE=DURATION:PT1H
X-Robots-Tag:noindex
X-PUBLISHED-TTL:PT1H
BEGIN:VTIMEZONE
TZID:America/New_York
BEGIN:DAYLIGHT
TZOFFSETFROM:-0500
TZOFFSETTO:-0400
TZNAME:EDT
DTSTART:20240310T070000
END:DAYLIGHT
BEGIN:STANDARD
TZOFFSETFROM:-0400
TZOFFSETTO:-0500
TZNAME:EST
DTSTART:20241103T060000
END:STANDARD
BEGIN:DAYLIGHT
TZOFFSETFROM:-0500
TZOFFSETTO:-0400
TZNAME:EDT
DTSTART:20250309T070000
END:DAYLIGHT
BEGIN:STANDARD
TZOFFSETFROM:-0400
TZOFFSETTO:-0500
TZNAME:EST
DTSTART:20251102T060000
END:STANDARD
BEGIN:DAYLIGHT
TZOFFSETFROM:-0500
TZOFFSETTO:-0400
TZNAME:EDT
DTSTART:20260308T070000
END:DAYLIGHT
BEGIN:STANDARD
TZOFFSETFROM:-0400
TZOFFSETTO:-0500
TZNAME:EST
DTSTART:20261101T060000
END:STANDARD
END:VTIMEZONE
BEGIN:VEVENT
DTSTART;TZID=America/New_York:20250802T080000
DTEND;TZID=America/New_York:20250802T100000
DTSTAMP:20260423T113943
CREATED:20250610T204643Z
LAST-MODIFIED:20250610T204726Z
UID:7488-1754121600-1754128800@svbcc.net
SUMMARY:Cars & Coffee Charlottesville
DESCRIPTION:Held on the 1st and 3rd Saturday of each month\, rain or shine! This is an eclectic gathering that ranges from 20 -100+ cars\, depending on the weather. \nHere’s an aerial view showing where in Barracks Road Shopping Center the cars typically gather. Please don’t park in the two rows closest to Chopt Salad. Car photo credit: Barry Forte; parking lot photo credit: Skyclad Aerial.
URL:https://svbcc.net/event/cars-coffee-charlottesville-37/
LOCATION:Barracks Road Shopping Center\, 1049 Emmet St N\, Charlottesville\, VA\, 22903\, United States
CATEGORIES:Regional British Car Events
ATTACH;FMTTYPE=image/jpeg:https://svbcc.net/wp-content/uploads/2024/01/cc_lotus_elise_barry_forte_760px.jpg
END:VEVENT
BEGIN:VEVENT
DTSTART;TZID=America/New_York:20250816T080000
DTEND;TZID=America/New_York:20250816T100000
DTSTAMP:20260423T113943
CREATED:20250610T204934Z
LAST-MODIFIED:20250610T204934Z
UID:7491-1755331200-1755338400@svbcc.net
SUMMARY:Cars & Coffee Charlottesville
DESCRIPTION:Held on the 1st and 3rd Saturday of each month\, rain or shine! This is an eclectic gathering that ranges from 20 -100+ cars\, depending on the weather. \nHere’s an aerial view showing where in Barracks Road Shopping Center the cars typically gather. Please don’t park in the two rows closest to Chopt Salad. Car photo credit: Barry Forte; parking lot photo credit: Skyclad Aerial.
URL:https://svbcc.net/event/cars-coffee-charlottesville-38/
LOCATION:Barracks Road Shopping Center\, 1049 Emmet St N\, Charlottesville\, VA\, 22903\, United States
CATEGORIES:Regional British Car Events
ATTACH;FMTTYPE=image/jpeg:https://svbcc.net/wp-content/uploads/2024/12/cc_spitfire_barry-forte.jpg
END:VEVENT
BEGIN:VEVENT
DTSTART;TZID=America/New_York:20250816T080000
DTEND;TZID=America/New_York:20250816T100000
DTSTAMP:20260423T113943
CREATED:20250610T220209Z
LAST-MODIFIED:20250610T220425Z
UID:7514-1755331200-1755338400@svbcc.net
SUMMARY:Cars & Coffee Staunton (Terry Court Shopping Center)
DESCRIPTION:“Join us each 3rd Saturday morning 8-10am for Staunton Cars and Coffee at Terry Court 2201 North Augusta Street Staunton VA.\nAll types of vehicles welcome.” \n \nCar photo courtesy of Zach Straits.
URL:https://svbcc.net/event/cars-coffee-staunton-terry-court-shopping-center/
LOCATION:Staunton Cars & Coffee Terry Court\, 2201 N. Augusta Street\, Staunton\, VA\, 24401\, United States
CATEGORIES:Regional British Car Events
ATTACH;FMTTYPE=image/jpeg:https://svbcc.net/wp-content/uploads/2025/06/mg_td_staunton_cc_zak_straits.jpg
END:VEVENT
BEGIN:VEVENT
DTSTART;TZID=America/New_York:20250824T093000
DTEND;TZID=America/New_York:20250824T143000
DTSTAMP:20260423T113943
CREATED:20250609T173238Z
LAST-MODIFIED:20250609T234135Z
UID:7463-1756027800-1756045800@svbcc.net
SUMMARY:35th A Taste Of Britain Car Show\, Leola\, PA
DESCRIPTION:Field opens: 9:30 a.m. \n“The Lanco MG Club’s 35th annual “A Taste of Britain” is a British and classic European vehicle show. This is a non-judged event allowing car and motorcycle owners to enjoy a stress free day sharing their interest(s) with other enthusiasts. The show is moving to new venue this year\, as the club’s as our long-standing arrangement with the Lancaster Polo Club has ended.  The new location is Sylvan B Fisher Township Park\, located on Stone Quarry Rd and Rte 772 in Brownstown\, Pa. The car show is a non-j… RAIN or SHINE: Yes. Advance Registration: $25\, online only\, through August 16. Refunds up to 7 days before event. Registration: $30 as of August 17\, through day of show. Day of Show: Opens 9:30 a.m. Spectator Admission: Suggested donation is $5 per adult. Children 10 and under free. Proceeds Benefit: Schreiber Center for Pediatric Development\, Lancaster\, Pa. Registration Form: https://www.eventbrite.com/e/lanco-mg-clubs-2025-a-taste-of-britain-classic-european-vehicle-show-tickets-1353762633479. Club/Event Website: http://www.lancomgclub.com. Email: mg1lanco@comcast.net. Phone: 717-285-7379. Sunday\, August 24\, 2025\, 9:30 AM – 2:00 PM. Sylvan B. Fisher Township Park\, Stone Quarry Road\, Leola\, Pa.
URL:https://svbcc.net/event/35th-a-taste-of-britain-car-show-leola-pa/
LOCATION:Sylvan B Fisher Township Park\, Stone Quarry Rd\, Leola\, PA\, 17540\, United States
CATEGORIES:Other British Car Events,Regional British Car Events
ATTACH;FMTTYPE=image/jpeg:https://svbcc.net/wp-content/uploads/2025/06/event_taste_of_britain_lanco_mg.jpg
END:VEVENT
END:VCALENDAR