BEGIN:VCALENDAR
VERSION:2.0
PRODID:-//Shenandoah Valley British Car Club - ECPv6.15.18//NONSGML v1.0//EN
CALSCALE:GREGORIAN
METHOD:PUBLISH
X-ORIGINAL-URL:https://svbcc.net
X-WR-CALDESC:Events for Shenandoah Valley British Car Club
REFRESH-INTERVAL;VALUE=DURATION:PT1H
X-Robots-Tag:noindex
X-PUBLISHED-TTL:PT1H
BEGIN:VTIMEZONE
TZID:America/New_York
BEGIN:DAYLIGHT
TZOFFSETFROM:-0500
TZOFFSETTO:-0400
TZNAME:EDT
DTSTART:20230312T070000
END:DAYLIGHT
BEGIN:STANDARD
TZOFFSETFROM:-0400
TZOFFSETTO:-0500
TZNAME:EST
DTSTART:20231105T060000
END:STANDARD
BEGIN:DAYLIGHT
TZOFFSETFROM:-0500
TZOFFSETTO:-0400
TZNAME:EDT
DTSTART:20240310T070000
END:DAYLIGHT
BEGIN:STANDARD
TZOFFSETFROM:-0400
TZOFFSETTO:-0500
TZNAME:EST
DTSTART:20241103T060000
END:STANDARD
BEGIN:DAYLIGHT
TZOFFSETFROM:-0500
TZOFFSETTO:-0400
TZNAME:EDT
DTSTART:20250309T070000
END:DAYLIGHT
BEGIN:STANDARD
TZOFFSETFROM:-0400
TZOFFSETTO:-0500
TZNAME:EST
DTSTART:20251102T060000
END:STANDARD
END:VTIMEZONE
BEGIN:VEVENT
DTSTART;VALUE=DATE:20240527
DTEND;VALUE=DATE:20240603
DTSTAMP:20260419T230447
CREATED:20240522T212845Z
LAST-MODIFIED:20240522T212845Z
UID:5740-1716768000-1717372799@svbcc.net
SUMMARY:British Car Week
DESCRIPTION:“British Car Week is an annual tradition of promoting the British car hobby. It began as a response to columnist Peter Egan’s wake-up call titled “Seldom Seen Cars” published in the March 1997 issue of Road & Track Magazine. The latter part of May was chosen since it is a time of year when many British car owners begin thinking about preparing their cars for the upcoming driving season. The idea was to promote the British car hobby using the vast resources of the internet to contact British car enthusiasts wherever possible (email\, clubs\, blogs\, list groups…)\, and hope they would join forces to help promote all of the many wonderful facets of the hobby. By getting cars onto the roads of communities everywhere possible during the week\, it would help increase awareness of these once very popular vehicles\, and in turn help keep the hobby and businesses that support our cars flourishing.” \nNote that the SVBCC has four events during this week: \n\nMay 27: Cruise-In & Picnic @ Glenmore Country Club\nJune 1 (morning): British Invasion (& Breakfast) @ Cars & Coffee Charlottesville\nJune 1 (afternoon): Rockbridge Winery Afternoon\nJune 2: Drive To Luray Caverns for Brunch + Car & Carriage Museum
URL:https://svbcc.net/event/british-car-week/
CATEGORIES:Other British Car Events,Regional British Car Events
ATTACH;FMTTYPE=image/jpeg:https://svbcc.net/wp-content/uploads/2024/05/british_car_week_2024_1000px.jpg
END:VEVENT
END:VCALENDAR