BEGIN:VCALENDAR
VERSION:2.0
PRODID:-//Shenandoah Valley British Car Club - ECPv6.15.18//NONSGML v1.0//EN
CALSCALE:GREGORIAN
METHOD:PUBLISH
X-WR-CALNAME:Shenandoah Valley British Car Club
X-ORIGINAL-URL:https://svbcc.net
X-WR-CALDESC:Events for Shenandoah Valley British Car Club
REFRESH-INTERVAL;VALUE=DURATION:PT1H
X-Robots-Tag:noindex
X-PUBLISHED-TTL:PT1H
BEGIN:VTIMEZONE
TZID:America/New_York
BEGIN:DAYLIGHT
TZOFFSETFROM:-0500
TZOFFSETTO:-0400
TZNAME:EDT
DTSTART:20230312T070000
END:DAYLIGHT
BEGIN:STANDARD
TZOFFSETFROM:-0400
TZOFFSETTO:-0500
TZNAME:EST
DTSTART:20231105T060000
END:STANDARD
BEGIN:DAYLIGHT
TZOFFSETFROM:-0500
TZOFFSETTO:-0400
TZNAME:EDT
DTSTART:20240310T070000
END:DAYLIGHT
BEGIN:STANDARD
TZOFFSETFROM:-0400
TZOFFSETTO:-0500
TZNAME:EST
DTSTART:20241103T060000
END:STANDARD
BEGIN:DAYLIGHT
TZOFFSETFROM:-0500
TZOFFSETTO:-0400
TZNAME:EDT
DTSTART:20250309T070000
END:DAYLIGHT
BEGIN:STANDARD
TZOFFSETFROM:-0400
TZOFFSETTO:-0500
TZNAME:EST
DTSTART:20251102T060000
END:STANDARD
END:VTIMEZONE
BEGIN:VEVENT
DTSTART;VALUE=DATE:20240818
DTEND;VALUE=DATE:20240819
DTSTAMP:20260419T183948
CREATED:20240131T164213Z
LAST-MODIFIED:20240131T164213Z
UID:3091-1723939200-1724025599@svbcc.net
SUMMARY:Pebble Beach Concours d'Elegance
DESCRIPTION:“The Pebble Beach Concours d’Elegance is the flagship of Pebble Beach Automotive Week. Begun in 1950 and now considered to be the world’s premier celebration of the automobile\, this is a can’t-miss event for every car enthusiast. \nEach year\, the finest collector cars gather on the 18th fairway of Pebble Beach Golf Links to compete to be named Best of Show — the ultimate award for automobiles. Experts critique their elegance\, technical merit\, and history. And crowds come from all corners of the globe to cheer their favorites.”
URL:https://svbcc.net/event/pebble-beach-concours-delegance/
CATEGORIES:Other British Car Events
ATTACH;FMTTYPE=image/jpeg:https://svbcc.net/wp-content/uploads/2024/01/pebble_beach_concours_760px.jpg
END:VEVENT
END:VCALENDAR