BEGIN:VCALENDAR
VERSION:2.0
PRODID:-//Shenandoah Valley British Car Club - ECPv6.15.18//NONSGML v1.0//EN
CALSCALE:GREGORIAN
METHOD:PUBLISH
X-WR-CALNAME:Shenandoah Valley British Car Club
X-ORIGINAL-URL:https://svbcc.net
X-WR-CALDESC:Events for Shenandoah Valley British Car Club
REFRESH-INTERVAL;VALUE=DURATION:PT1H
X-Robots-Tag:noindex
X-PUBLISHED-TTL:PT1H
BEGIN:VTIMEZONE
TZID:America/New_York
BEGIN:DAYLIGHT
TZOFFSETFROM:-0500
TZOFFSETTO:-0400
TZNAME:EDT
DTSTART:20230312T070000
END:DAYLIGHT
BEGIN:STANDARD
TZOFFSETFROM:-0400
TZOFFSETTO:-0500
TZNAME:EST
DTSTART:20231105T060000
END:STANDARD
BEGIN:DAYLIGHT
TZOFFSETFROM:-0500
TZOFFSETTO:-0400
TZNAME:EDT
DTSTART:20240310T070000
END:DAYLIGHT
BEGIN:STANDARD
TZOFFSETFROM:-0400
TZOFFSETTO:-0500
TZNAME:EST
DTSTART:20241103T060000
END:STANDARD
BEGIN:DAYLIGHT
TZOFFSETFROM:-0500
TZOFFSETTO:-0400
TZNAME:EDT
DTSTART:20250309T070000
END:DAYLIGHT
BEGIN:STANDARD
TZOFFSETFROM:-0400
TZOFFSETTO:-0500
TZNAME:EST
DTSTART:20251102T060000
END:STANDARD
END:VTIMEZONE
BEGIN:VEVENT
DTSTART;TZID=America/New_York:20240303T093000
DTEND;TZID=America/New_York:20240303T163000
DTSTAMP:20260420T021622
CREATED:20240131T002011Z
LAST-MODIFIED:20240201T022756Z
UID:3063-1709458200-1709483400@svbcc.net
SUMMARY:29th Annual Amelia Concours d'Elegance
DESCRIPTION:“Founded in 1996\, The Amelia is an award-winning motoring event held the first full weekend of March at The Golf Club of Amelia Island and The Ritz-Carlton\, Amelia Island.”
URL:https://svbcc.net/event/29th-annual-amelia-concours-delegance/
LOCATION:Amelia Island
CATEGORIES:Other British Car Events
ATTACH;FMTTYPE=image/jpeg:https://svbcc.net/wp-content/uploads/2024/01/amelia_car_show_760px.jpg
END:VEVENT
BEGIN:VEVENT
DTSTART;VALUE=DATE:20240308
DTEND;VALUE=DATE:20240311
DTSTAMP:20260420T021622
CREATED:20240131T151956Z
LAST-MODIFIED:20240201T000421Z
UID:3071-1709856000-1710115199@svbcc.net
SUMMARY:Sebring Spring Fling Vintage Races
DESCRIPTION:Historic Sports Car Racing (HSR) event at Sebring International Raceway.
URL:https://svbcc.net/event/sebring-spring-fling-vintage-races/
CATEGORIES:Other British Car Events
ATTACH;FMTTYPE=image/jpeg:https://svbcc.net/wp-content/uploads/2024/01/sebring_hsr_race_760px.jpg
END:VEVENT
BEGIN:VEVENT
DTSTART;VALUE=DATE:20240330
DTEND;VALUE=DATE:20240331
DTSTAMP:20260420T021622
CREATED:20240131T003016Z
LAST-MODIFIED:20240201T014537Z
UID:3067-1711756800-1711843199@svbcc.net
SUMMARY:Wheels Across the Pond British/Euro Car Show
DESCRIPTION:“Wheels Across The Pond is one of the premier British Classic Car and Motorcycle Shows\, and has definitely become the largest\, in the state of Florida taking place on Easter Saturday each year at the beautiful Carlin Park in Jupiter. Since our first show in 2007\, we have continued to grow to where now we can expect more than 300 British and European Classics every year. Wheels Across The Pond is free to spectator admission and our show raises money each year for both the MiniMe Foundation and a Jupiter-based nonprofit wildlife hospital and sanctuary\, the Busch Wildlife Sanctuary.”
URL:https://svbcc.net/event/wheels-across-the-pond-british-euro-car-show/
CATEGORIES:Other British Car Events
ATTACH;FMTTYPE=image/gif:https://svbcc.net/wp-content/uploads/2024/01/wheels_across_pond_760px.gif
END:VEVENT
BEGIN:VEVENT
DTSTART;VALUE=DATE:20240331
DTEND;VALUE=DATE:20240401
DTSTAMP:20260420T021622
CREATED:20240131T160209Z
LAST-MODIFIED:20240131T172558Z
UID:3079-1711843200-1711929599@svbcc.net
SUMMARY:British Motoring Festival - New Orleans
DESCRIPTION:British Motoring Club of New Orleans invites you to our British Motoring Festival.
URL:https://svbcc.net/event/british-motoring-festival/
LOCATION:Covington Trailhead\, 419 N New Hampshire St\, Covington\, LA\, 70433\, United States
CATEGORIES:Other British Car Events
ATTACH;FMTTYPE=image/jpeg:https://svbcc.net/wp-content/uploads/2024/01/bmcno_british_motoring_festival_760px.jpg
END:VEVENT
END:VCALENDAR