BEGIN:VCALENDAR
VERSION:2.0
PRODID:-//Shenandoah Valley British Car Club - ECPv6.15.18//NONSGML v1.0//EN
CALSCALE:GREGORIAN
METHOD:PUBLISH
X-WR-CALNAME:Shenandoah Valley British Car Club
X-ORIGINAL-URL:https://svbcc.net
X-WR-CALDESC:Events for Shenandoah Valley British Car Club
REFRESH-INTERVAL;VALUE=DURATION:PT1H
X-Robots-Tag:noindex
X-PUBLISHED-TTL:PT1H
BEGIN:VTIMEZONE
TZID:America/New_York
BEGIN:DAYLIGHT
TZOFFSETFROM:-0500
TZOFFSETTO:-0400
TZNAME:EDT
DTSTART:20240310T070000
END:DAYLIGHT
BEGIN:STANDARD
TZOFFSETFROM:-0400
TZOFFSETTO:-0500
TZNAME:EST
DTSTART:20241103T060000
END:STANDARD
BEGIN:DAYLIGHT
TZOFFSETFROM:-0500
TZOFFSETTO:-0400
TZNAME:EDT
DTSTART:20250309T070000
END:DAYLIGHT
BEGIN:STANDARD
TZOFFSETFROM:-0400
TZOFFSETTO:-0500
TZNAME:EST
DTSTART:20251102T060000
END:STANDARD
BEGIN:DAYLIGHT
TZOFFSETFROM:-0500
TZOFFSETTO:-0400
TZNAME:EDT
DTSTART:20260308T070000
END:DAYLIGHT
BEGIN:STANDARD
TZOFFSETFROM:-0400
TZOFFSETTO:-0500
TZNAME:EST
DTSTART:20261101T060000
END:STANDARD
END:VTIMEZONE
BEGIN:VEVENT
DTSTART;TZID=America/New_York:20251004T080000
DTEND;TZID=America/New_York:20251004T103000
DTSTAMP:20260423T154608
CREATED:20250610T210354Z
LAST-MODIFIED:20250926T184348Z
UID:7499-1759564800-1759573800@svbcc.net
SUMMARY:Cars & Coffee Charlottesville
DESCRIPTION:Held on the 1st and 3rd Saturday of each month\, rain or shine! This is an eclectic gathering that ranges from 20 -100+ cars\, depending on the weather. All fun cars are welcome! \nHere’s an aerial view showing where in Barracks Road Shopping Center the cars typically gather. Please don’t park in the two rows closest to Chopt Salad. Car photo credit: Barry Forte; parking lot photo credit: Skyclad Aerial. \nDon’t forget to head straight over to the SVBCC British Car Show in Waynesboro after today’s Cars & Coffee!
URL:https://svbcc.net/event/cars-coffee-charlottesville-41/
LOCATION:Barracks Road Shopping Center\, 1049 Emmet St N\, Charlottesville\, VA\, 22903\, United States
CATEGORIES:Regional British Car Events
ATTACH;FMTTYPE=image/jpeg:https://svbcc.net/wp-content/uploads/2024/01/cc_xjs_barry_forte_760px.jpg
END:VEVENT
BEGIN:VEVENT
DTSTART;TZID=America/New_York:20251004T083000
DTEND;TZID=America/New_York:20251004T153000
DTSTAMP:20260423T154608
CREATED:20250310T155246Z
LAST-MODIFIED:20251001T182249Z
UID:7108-1759566600-1759591800@svbcc.net
SUMMARY:Annual SVBCC British Car Festival [PRE-REGISTRATION IS CLOSED; REGISTER ON THE FIELD]
DESCRIPTION:Mark your calendar – this is the big one that you don’t want to miss! Expect to see 100 – 200 British cars from several states\, all gathered in a beautiful park setting. \nThis show will be staged among the massive trees and lovely views of Ridgeview Park in Waynesboro. There will be an on-site food vendor\, lots of door prizes\, and trophies for class winners! Last year\, we had over 120 cars. \nBritish Classics\, British Motorcycles as well as British DNA & Kit Cars are welcome! Our featured marques for 2025 are the Classic Mini & the Modern MINI. \nThe show is held at Ridgeview Park in Waynesboro\, VA 22980.  There will be directional signs to help find the park.  The address of the park is 700 S Magnolia Ave\, but entry for registration is via S. Linden Avenue. \nTo register\, and for up-to-date information\, visit our Car Show page. \nHere is the schedule of events: \n\n8:00am – Show field opens; coffee & donuts at the welcome tent\n8:30 – 11:00am – Registration will be open\n11:00am – 2:00pm – Voting (by car entrants)\n11:30 – Food vendors begin serving lunch\n\nMusic will be provided throughout the event and there are restrooms onsite.
URL:https://svbcc.net/event/annual-svbcc-british-car-festival/
LOCATION:Ridgeview Park\, 620 South Linden Avenue\, Waynesboro\, VA\, 22980\, United States
CATEGORIES:SVBCC Club Events
ATTACH;FMTTYPE=image/jpeg:https://svbcc.net/wp-content/uploads/2024/01/car_show_700x394.jpg
END:VEVENT
END:VCALENDAR